BEGIN:VCALENDAR
VERSION:2.0
PRODID:-//Hemlock Campgrounds &amp; Cottages - ECPv5.1.6//NONSGML v1.0//EN
CALSCALE:GREGORIAN
METHOD:PUBLISH
X-WR-CALNAME:Hemlock Campgrounds &amp; Cottages
X-ORIGINAL-URL:http://hemlockcampground.com
X-WR-CALDESC:Events for Hemlock Campgrounds &amp; Cottages
BEGIN:VTIMEZONE
TZID:America/Halifax
BEGIN:DAYLIGHT
TZOFFSETFROM:-0400
TZOFFSETTO:-0300
TZNAME:ADT
DTSTART:20160313T060000
END:DAYLIGHT
BEGIN:STANDARD
TZOFFSETFROM:-0300
TZOFFSETTO:-0400
TZNAME:AST
DTSTART:20161106T050000
END:STANDARD
END:VTIMEZONE
BEGIN:VEVENT
DTSTART;VALUE=DATE:20160422
DTEND;VALUE=DATE:20160425
DTSTAMP:20260419T145631
CREATED:20140317T165257Z
LAST-MODIFIED:20160208T192835Z
UID:91-1461283200-1461542399@hemlockcampground.com
SUMMARY:Opening Weekend
DESCRIPTION:Camping season begins.  Welcome back! \n 
URL:http://hemlockcampground.com/event/opening-weekend/
END:VEVENT
END:VCALENDAR