BEGIN:VCALENDAR
VERSION:2.0
PRODID:-//Hemlock Campgrounds &amp; Cottages - ECPv5.1.6//NONSGML v1.0//EN
CALSCALE:GREGORIAN
METHOD:PUBLISH
X-WR-CALNAME:Hemlock Campgrounds &amp; Cottages
X-ORIGINAL-URL:http://hemlockcampground.com
X-WR-CALDESC:Events for Hemlock Campgrounds &amp; Cottages
BEGIN:VTIMEZONE
TZID:America/Halifax
BEGIN:DAYLIGHT
TZOFFSETFROM:-0400
TZOFFSETTO:-0300
TZNAME:ADT
DTSTART:20200308T060000
END:DAYLIGHT
BEGIN:STANDARD
TZOFFSETFROM:-0300
TZOFFSETTO:-0400
TZNAME:AST
DTSTART:20201101T050000
END:STANDARD
END:VTIMEZONE
BEGIN:VEVENT
DTSTART;VALUE=DATE:20201016
DTEND;VALUE=DATE:20201019
DTSTAMP:20260424T081714
CREATED:20170222T201203Z
LAST-MODIFIED:20200127T015458Z
UID:674-1602806400-1603065599@hemlockcampground.com
SUMMARY:Closing Weekend-Last chance to camp in 2020!
DESCRIPTION:It’s been another great year.  Come on out for your last chance to spend the weekend with us.
URL:http://hemlockcampground.com/event/closing-weekend-last-chance-to-camp-in-2017/
END:VEVENT
END:VCALENDAR