BEGIN:VCALENDAR
VERSION:2.0
PRODID:-//Hemlock Campgrounds &amp; Cottages - ECPv5.1.6//NONSGML v1.0//EN
CALSCALE:GREGORIAN
METHOD:PUBLISH
X-WR-CALNAME:Hemlock Campgrounds &amp; Cottages
X-ORIGINAL-URL:http://hemlockcampground.com
X-WR-CALDESC:Events for Hemlock Campgrounds &amp; Cottages
BEGIN:VTIMEZONE
TZID:America/Halifax
BEGIN:DAYLIGHT
TZOFFSETFROM:-0400
TZOFFSETTO:-0300
TZNAME:ADT
DTSTART:20260308T060000
END:DAYLIGHT
BEGIN:STANDARD
TZOFFSETFROM:-0300
TZOFFSETTO:-0400
TZNAME:AST
DTSTART:20261101T050000
END:STANDARD
END:VTIMEZONE
BEGIN:VEVENT
DTSTART;VALUE=DATE:20260703
DTEND;VALUE=DATE:20260708
DTSTAMP:20260424T112954
CREATED:20190228T143457Z
LAST-MODIFIED:20260123T170241Z
UID:932-1783036800-1783468799@hemlockcampground.com
SUMMARY:4th of July Weekend
DESCRIPTION:Happy Independance Day! \n  \nArts and Crafts\, Bingo\, Tye Dye\, Color me T’s\, and Ceramics! \n 
URL:http://hemlockcampground.com/event/4th-of-july-weekend-2/
END:VEVENT
END:VCALENDAR